BEGIN:VCALENDAR
VERSION:2.0
PRODID:-//Tukios.com/
BEGIN:VEVENT
UID:b7a7eefd-8cc9-4583-9090-690f4d339cad@opi.trevinofuneral.com
DTSTAMP:20260423T231014Z
DTSTART:20260428T200000Z
DTEND:20260428T210000Z
SUMMARY:Burial
DESCRIPTION:
URL:https://opi.trevinofuneral.com/obituaries/maria-narvaez
LOCATION: 4464 Old Port Isabel Rd  Brownsville TX 78526
GEO:25.9689892;-97.4509605
END:VEVENT
END:VCALENDAR