BEGIN:VCALENDAR
VERSION:2.0
PRODID:-//Tukios.com/
BEGIN:VEVENT
UID:820fd8c4-f1a4-497f-a5d5-89ca63169cf2@opi.trevinofuneral.com
DTSTAMP:20260423T230927Z
DTSTART:20260428T190000Z
DTEND:20260428T193000Z
SUMMARY:Mass
DESCRIPTION:
URL:https://opi.trevinofuneral.com/obituaries/maria-narvaez
LOCATION: 2645 Tulipan St  Brownsville TX 78521
GEO:25.898519;-97.457572
END:VEVENT
END:VCALENDAR