BEGIN:VCALENDAR
VERSION:2.0
PRODID:-//Tukios.com/
BEGIN:VEVENT
UID:8808b05f-62be-4de7-9738-f2d8b4f6fa9e@opi.trevinofuneral.com
DTSTAMP:20260423T231358Z
DTSTART:20260428T131500Z
DTEND:20260428T183000Z
SUMMARY:Visitation Resumes
DESCRIPTION:
URL:https://opi.trevinofuneral.com/obituaries/maria-narvaez
LOCATION: 1355 Old Port Isabel Rd  Brownsville TX 78521
GEO:25.9371235;-97.4719144
END:VEVENT
END:VCALENDAR