BEGIN:VCALENDAR
VERSION:2.0
PRODID:-//Tukios.com/
BEGIN:VEVENT
UID:98ac3bc7-a06b-485a-ba89-bd2123320d72@opi.trevinofuneral.com
DTSTAMP:20260423T230847Z
DTSTART:20260428T000000Z
DTEND:20260428T010000Z
SUMMARY:Rosary
DESCRIPTION:
URL:https://opi.trevinofuneral.com/obituaries/maria-narvaez
LOCATION: 1355 Old Port Isabel Rd  Brownsville TX 78521
GEO:25.9371235;-97.4719144
END:VEVENT
END:VCALENDAR