BEGIN:VCALENDAR
VERSION:2.0
PRODID:-//Tukios.com/
BEGIN:VEVENT
UID:d0683011-1ce8-4235-9217-fd0cbb96f28d@opi.trevinofuneral.com
DTSTAMP:20260423T230847Z
DTSTART:20260427T190000Z
DTEND:20260428T020000Z
SUMMARY:Visitation
DESCRIPTION:
URL:https://opi.trevinofuneral.com/obituaries/maria-narvaez
LOCATION: 1355 Old Port Isabel Rd  Brownsville TX 78521
GEO:25.9371235;-97.4719144
END:VEVENT
END:VCALENDAR